BEGIN:VCALENDAR
VERSION:2.0
PRODID:cabaretvoltaire.ch
BEGIN:VEVENT
UID:69ecb9632c0c9
DTSTART:20201208T190000Z
SEQUENCE:0
TRANSP:OPAQUE
DTEND:20201208T225959Z
URL:https://cabaretvoltaire.ch/#node-9961-de
LOCATION:Cabaret Voltaire
SUMMARY:Verschoben: Agnes Scherer\, «The Teacher»
CLASS:PUBLIC
DTSTAMP:20260425T125355Z
END:VEVENT
END:VCALENDAR