BEGIN:VCALENDAR
VERSION:2.0
PRODID:cabaretvoltaire.ch
BEGIN:VEVENT
UID:69eb5d24e5b94
DTSTART:20240312T190000Z
SEQUENCE:0
TRANSP:OPAQUE
DTEND:20240312T225959Z
URL:https://cabaretvoltaire.ch/#node-98890-de
LOCATION:Cabaret Voltaire
SUMMARY:«Dilemma Dinner: AI’s Favorite Food»
CLASS:PUBLIC
DTSTAMP:20260424T120804Z
END:VEVENT
END:VCALENDAR