BEGIN:VCALENDAR
VERSION:2.0
PRODID:cabaretvoltaire.ch
BEGIN:VEVENT
UID:69e89d0d50dc5
DTSTART:20240430T180000Z
SEQUENCE:0
TRANSP:OPAQUE
DTEND:20240430T215959Z
URL:https://cabaretvoltaire.ch/#node-96708-en
LOCATION:Cabaret Voltaire
SUMMARY:«Analytisches Kabarett» – Nr. 4: Epistemic dissoluteness and po
 st-truth apocalypse. Spinoza\, Elizabeth Anderson and gin(less) soda. Arti
 stic contribution by Ramon Feller
CLASS:PUBLIC
DTSTAMP:20260422T100357Z
END:VEVENT
END:VCALENDAR