BEGIN:VCALENDAR
VERSION:2.0
PRODID:cabaretvoltaire.ch
BEGIN:VEVENT
UID:69e89d0d7bfa9
DTSTART:20240430T180000Z
SEQUENCE:0
TRANSP:OPAQUE
DTEND:20240430T215959Z
URL:https://cabaretvoltaire.ch/#node-96708-de
LOCATION:Cabaret Voltaire
SUMMARY:«Analytisches Kabarett» – Nr. 4: Epistemische Liederlichkeit un
 d Post-Truth-Apokalypse. Spinoza\, Elizabeth Anderson und Gin(less)-Soda. 
 Künstlerischer Beitrag von Ramon Feller
CLASS:PUBLIC
DTSTAMP:20260422T100357Z
END:VEVENT
END:VCALENDAR