BEGIN:VCALENDAR
VERSION:2.0
PRODID:cabaretvoltaire.ch
BEGIN:VEVENT
UID:69eb5d1d9f4e7
DTSTART:20240224T210000Z
SEQUENCE:0
TRANSP:OPAQUE
DTEND:20240224T225959Z
URL:https://cabaretvoltaire.ch/#node-95567-de
LOCATION:Cabaret Voltaire
SUMMARY:«Tage internationaler Literatur: Vom Verschwinden» – Still here
 ! Late Night mit «Oh Darling\, du zerfällst mir sehr»\, Gabriela Alvare
 z- Hummel\, Romana Ganzoni\, IOKOI\, Andrea Keller\, Simone Lappert\, Anja
  Zag Golob
CLASS:PUBLIC
DTSTAMP:20260424T120757Z
END:VEVENT
END:VCALENDAR