BEGIN:VCALENDAR
VERSION:2.0
PRODID:cabaretvoltaire.ch
BEGIN:VEVENT
UID:69e89d0870c64
DTSTART:20200901T180000Z
SEQUENCE:0
TRANSP:OPAQUE
DTEND:20200901T215959Z
URL:https://cabaretvoltaire.ch/#node-9509-de
LOCATION:Cabaret Voltaire
SUMMARY:Lieb mich von allen Sünden rein
CLASS:PUBLIC
DTSTAMP:20260422T100352Z
END:VEVENT
END:VCALENDAR