BEGIN:VCALENDAR
VERSION:2.0
PRODID:cabaretvoltaire.ch
BEGIN:VEVENT
UID:69e89e28423d6
DTSTART:20240411T160000Z
SEQUENCE:0
TRANSP:OPAQUE
DTEND:20240411T215959Z
URL:https://cabaretvoltaire.ch/#node-94758-de
LOCATION:Cabaret Voltaire
SUMMARY:Eröffnung Ausstellung «Lee Scratch Perry»
CLASS:PUBLIC
DTSTAMP:20260422T100840Z
END:VEVENT
END:VCALENDAR