BEGIN:VCALENDAR
VERSION:2.0
PRODID:cabaretvoltaire.ch
BEGIN:VEVENT
UID:69eb5d2403d92
DTSTART:20240522T170000Z
SEQUENCE:0
TRANSP:OPAQUE
DTEND:20240522T215959Z
URL:https://cabaretvoltaire.ch/#node-94734-de
LOCATION:Cabaret Voltaire
SUMMARY:«dears\, write»
CLASS:PUBLIC
DTSTAMP:20260424T120804Z
END:VEVENT
END:VCALENDAR