BEGIN:VCALENDAR
VERSION:2.0
PRODID:cabaretvoltaire.ch
BEGIN:VEVENT
UID:69e89e0fbd82d
DTSTART:20240228T180000Z
SEQUENCE:0
TRANSP:OPAQUE
DTEND:20240228T225959Z
URL:https://cabaretvoltaire.ch/#node-94702-de
LOCATION:Cabaret Voltaire
SUMMARY:«dears\, write»
CLASS:PUBLIC
DTSTAMP:20260422T100815Z
END:VEVENT
END:VCALENDAR