BEGIN:VCALENDAR
VERSION:2.0
PRODID:cabaretvoltaire.ch
BEGIN:VEVENT
UID:69eb22a29e0b4
DTSTART:20241211T183000Z
SEQUENCE:0
TRANSP:OPAQUE
DTEND:20241211T225959Z
URL:https://cabaretvoltaire.ch/#node-94646-de
LOCATION:Cabaret Voltaire
SUMMARY:«Literarischer Club Zürich» – Gertrud Leutenegger
CLASS:PUBLIC
DTSTAMP:20260424T075826Z
END:VEVENT
END:VCALENDAR