BEGIN:VCALENDAR
VERSION:2.0
PRODID:cabaretvoltaire.ch
BEGIN:VEVENT
UID:69e89e0ed20c3
DTSTART:20240411T220000Z
SEQUENCE:0
TRANSP:OPAQUE
DTEND:20250105T225959Z
URL:https://cabaretvoltaire.ch/#node-89665-de
LOCATION:Cabaret Voltaire
SUMMARY:Lee Scratch Perry
CLASS:PUBLIC
DTSTAMP:20260422T100814Z
END:VEVENT
END:VCALENDAR