BEGIN:VCALENDAR
VERSION:2.0
PRODID:cabaretvoltaire.ch
BEGIN:VEVENT
UID:69ecba4a18954
DTSTART:20231117T230000Z
SEQUENCE:0
TRANSP:OPAQUE
DTEND:20231119T225959Z
URL:https://cabaretvoltaire.ch/#node-89317-en
LOCATION:Cabaret Voltaire
SUMMARY:CV Books at VOLUMES Art Publishing Days 2023
CLASS:PUBLIC
DTSTAMP:20260425T125746Z
END:VEVENT
END:VCALENDAR