BEGIN:VCALENDAR
VERSION:2.0
PRODID:cabaretvoltaire.ch
BEGIN:VEVENT
UID:69eb5de02141b
DTSTART:20231122T190000Z
SEQUENCE:0
TRANSP:OPAQUE
DTEND:20231122T225959Z
URL:https://cabaretvoltaire.ch/#node-88710-en
LOCATION:Cabaret Voltaire
SUMMARY:«Einfach Zürich – aber ganz schön schwierig. The Züri-Quiz wi
 th Thomas Wyss»
CLASS:PUBLIC
DTSTAMP:20260424T121112Z
END:VEVENT
END:VCALENDAR