BEGIN:VCALENDAR
VERSION:2.0
PRODID:cabaretvoltaire.ch
BEGIN:VEVENT
UID:69ecb960aaec4
DTSTART:20231125T190000Z
SEQUENCE:0
TRANSP:OPAQUE
DTEND:20231125T225959Z
URL:https://cabaretvoltaire.ch/#node-88599-de
LOCATION:Cabaret Voltaire
SUMMARY:«Chaostage» – offene Bühne
CLASS:PUBLIC
DTSTAMP:20260425T125352Z
END:VEVENT
END:VCALENDAR