BEGIN:VCALENDAR
VERSION:2.0
PRODID:cabaretvoltaire.ch
BEGIN:VEVENT
UID:69eb22924bfeb
DTSTART:20231024T180000Z
SEQUENCE:0
TRANSP:OPAQUE
DTEND:20231024T215959Z
URL:https://cabaretvoltaire.ch/#node-87436-de
LOCATION:Cabaret Voltaire
SUMMARY:«Plantation # 1 Nativeness» – eine de-koloniale Theater-Perform
 ance von experi_theater
CLASS:PUBLIC
DTSTAMP:20260424T075810Z
END:VEVENT
END:VCALENDAR