BEGIN:VCALENDAR
VERSION:2.0
PRODID:cabaretvoltaire.ch
BEGIN:VEVENT
UID:69ecba3a9f0c9
DTSTART:20240111T170000Z
SEQUENCE:0
TRANSP:OPAQUE
DTEND:20240111T225959Z
URL:https://cabaretvoltaire.ch/#node-85959-de
LOCATION:Cabaret Voltaire
SUMMARY:«The Psychedelic Salon»
CLASS:PUBLIC
DTSTAMP:20260425T125730Z
END:VEVENT
END:VCALENDAR