BEGIN:VCALENDAR
VERSION:2.0
PRODID:cabaretvoltaire.ch
BEGIN:VEVENT
UID:69eb5db239611
DTSTART:20231214T170000Z
SEQUENCE:0
TRANSP:OPAQUE
DTEND:20231214T225959Z
URL:https://cabaretvoltaire.ch/#node-85927-de
LOCATION:Cabaret Voltaire
SUMMARY:«The Psychedelic Salon»
CLASS:PUBLIC
DTSTAMP:20260424T121026Z
END:VEVENT
END:VCALENDAR