BEGIN:VCALENDAR
VERSION:2.0
PRODID:cabaretvoltaire.ch
BEGIN:VEVENT
UID:69eb22af806c4
DTSTART:20231109T170000Z
SEQUENCE:0
TRANSP:OPAQUE
DTEND:20231109T225959Z
URL:https://cabaretvoltaire.ch/#node-85899-de
LOCATION:Cabaret Voltaire
SUMMARY:«The Psychedelic Salon»
CLASS:PUBLIC
DTSTAMP:20260424T075839Z
END:VEVENT
END:VCALENDAR