BEGIN:VCALENDAR
VERSION:2.0
PRODID:cabaretvoltaire.ch
BEGIN:VEVENT
UID:69eb21aabf706
DTSTART:20230922T170000Z
SEQUENCE:0
TRANSP:OPAQUE
DTEND:20230922T215959Z
URL:https://cabaretvoltaire.ch/#node-85674-de
LOCATION:Cabaret Voltaire
SUMMARY:7½ Jahre Geschichte der Gegenwart: Party!
CLASS:PUBLIC
DTSTAMP:20260424T075418Z
END:VEVENT
END:VCALENDAR