BEGIN:VCALENDAR
VERSION:2.0
PRODID:cabaretvoltaire.ch
BEGIN:VEVENT
UID:69eb5cc81cb55
DTSTART:20230609T160000Z
SEQUENCE:0
TRANSP:OPAQUE
DTEND:20230609T215959Z
URL:https://cabaretvoltaire.ch/#node-80535-de
LOCATION:Cabaret Voltaire
SUMMARY:Eröffnung Monster Chetwynd\, «Profusion Protrusion» (Zurich Art 
 Weekend)
CLASS:PUBLIC
DTSTAMP:20260424T120632Z
END:VEVENT
END:VCALENDAR