BEGIN:VCALENDAR
VERSION:2.0
PRODID:cabaretvoltaire.ch
BEGIN:VEVENT
UID:69eb5d57ca9c0
DTSTART:20230606T180000Z
SEQUENCE:0
TRANSP:OPAQUE
DTEND:20230606T215959Z
URL:https://cabaretvoltaire.ch/#node-76757-en
LOCATION:Cabaret Voltaire
SUMMARY:«BRUCH varieté (Carl Einstein\, Die schlimme Botschaft)»
CLASS:PUBLIC
DTSTAMP:20260424T120855Z
END:VEVENT
END:VCALENDAR