BEGIN:VCALENDAR
VERSION:2.0
PRODID:cabaretvoltaire.ch
BEGIN:VEVENT
UID:69eb5d71051e6
DTSTART:20230610T120000Z
SEQUENCE:0
TRANSP:OPAQUE
DTEND:20230610T124500Z
URL:https://cabaretvoltaire.ch/#node-76274-en
LOCATION:Cabaret Voltaire
SUMMARY:Performance «Lustration/Ablution» by Maria Kulikovska
CLASS:PUBLIC
DTSTAMP:20260424T120921Z
END:VEVENT
END:VCALENDAR