BEGIN:VCALENDAR
VERSION:2.0
PRODID:cabaretvoltaire.ch
BEGIN:VEVENT
UID:69e89d0cb4063
DTSTART:20230510T163000Z
SEQUENCE:0
TRANSP:OPAQUE
DTEND:20230510T215959Z
URL:https://cabaretvoltaire.ch/#node-75889-de
LOCATION:Cabaret Voltaire
SUMMARY:Buchvernissage «One More Loop Around the Bend. Kulturanalytische B
 etrachtungen zu Westworld»
CLASS:PUBLIC
DTSTAMP:20260422T100356Z
END:VEVENT
END:VCALENDAR