BEGIN:VCALENDAR
VERSION:2.0
PRODID:cabaretvoltaire.ch
BEGIN:VEVENT
UID:69eb5cce05f89
DTSTART:20220429T220000Z
SEQUENCE:0
TRANSP:OPAQUE
DTEND:20230813T215959Z
URL:https://cabaretvoltaire.ch/#node-70350-de
LOCATION:Cabaret Voltaire
SUMMARY:Ilaria Vinci\, «Phoenix Philosophy Café»
CLASS:PUBLIC
DTSTAMP:20260424T120638Z
END:VEVENT
END:VCALENDAR