BEGIN:VCALENDAR
VERSION:2.0
PRODID:cabaretvoltaire.ch
BEGIN:VEVENT
UID:69e89db4b2be7
DTSTART:20200608T170000Z
SEQUENCE:0
TRANSP:OPAQUE
DTEND:20200608T210000Z
URL:https://cabaretvoltaire.ch/#node-6989-de
LOCATION:Cabaret Voltaire
SUMMARY:Nach dem langen Sonntag
CLASS:PUBLIC
DTSTAMP:20260422T100644Z
END:VEVENT
END:VCALENDAR