BEGIN:VCALENDAR
VERSION:2.0
PRODID:cabaretvoltaire.ch
BEGIN:VEVENT
UID:69e89d0b07c9f
DTSTART:20230314T190000Z
SEQUENCE:0
TRANSP:OPAQUE
DTEND:20230314T225959Z
URL:https://cabaretvoltaire.ch/#node-68643-de
LOCATION:Cabaret Voltaire
SUMMARY:«Wut ist eine komplizierte Kraft» – Eine Soiree mit den Studier
 enden des Masters Transdisziplinarität der Zürcher Hochschule der Künst
 e
CLASS:PUBLIC
DTSTAMP:20260422T100355Z
END:VEVENT
END:VCALENDAR