BEGIN:VCALENDAR
VERSION:2.0
PRODID:cabaretvoltaire.ch
BEGIN:VEVENT
UID:69eb5d197e73d
DTSTART:20230214T190000Z
SEQUENCE:0
TRANSP:OPAQUE
DTEND:20230214T225959Z
URL:https://cabaretvoltaire.ch/#node-68032-en
LOCATION:Cabaret Voltaire
SUMMARY:Luca Büchler\, «The Way I Are»
CLASS:PUBLIC
DTSTAMP:20260424T120753Z
END:VEVENT
END:VCALENDAR