BEGIN:VCALENDAR
VERSION:2.0
PRODID:cabaretvoltaire.ch
BEGIN:VEVENT
UID:69e89e28aa598
DTSTART:20230217T190000Z
SEQUENCE:0
TRANSP:OPAQUE
DTEND:20230217T225959Z
URL:https://cabaretvoltaire.ch/#node-67468-de
LOCATION:Cabaret Voltaire
SUMMARY:«Chaostage» – offene Bühne
CLASS:PUBLIC
DTSTAMP:20260422T100840Z
END:VEVENT
END:VCALENDAR