BEGIN:VCALENDAR
VERSION:2.0
PRODID:cabaretvoltaire.ch
BEGIN:VEVENT
UID:69e89e0def9c7
DTSTART:20230321T190000Z
SEQUENCE:0
TRANSP:OPAQUE
DTEND:20230321T225959Z
URL:https://cabaretvoltaire.ch/#node-67282-de
LOCATION:Cabaret Voltaire
SUMMARY:«Chronicles of the Phoenix Fireplace» – mit Allison Grimaldi Do
 nahue\, Judith Keller und Maya Olah
CLASS:PUBLIC
DTSTAMP:20260422T100813Z
END:VEVENT
END:VCALENDAR