BEGIN:VCALENDAR
VERSION:2.0
PRODID:cabaretvoltaire.ch
BEGIN:VEVENT
UID:69eb5d5839645
DTSTART:20221221T180000Z
SEQUENCE:0
TRANSP:OPAQUE
DTEND:20221221T225959Z
URL:https://cabaretvoltaire.ch/#node-63432-de
LOCATION:Cabaret Voltaire
SUMMARY:Denkbilder #51 Vernissage und Lesung
CLASS:PUBLIC
DTSTAMP:20260424T120856Z
END:VEVENT
END:VCALENDAR