BEGIN:VCALENDAR
VERSION:2.0
PRODID:cabaretvoltaire.ch
BEGIN:VEVENT
UID:69ecb9ecc92bf
DTSTART:20200419T170000Z
SEQUENCE:0
TRANSP:OPAQUE
DTEND:20200419T215959Z
URL:https://cabaretvoltaire.ch/#node-6238-en
LOCATION:Cabaret Voltaire
SUMMARY:P-a-i-n.org
CLASS:PUBLIC
DTSTAMP:20260425T125612Z
END:VEVENT
END:VCALENDAR