BEGIN:VCALENDAR
VERSION:2.0
PRODID:cabaretvoltaire.ch
BEGIN:VEVENT
UID:69eb5c847c051
DTSTART:20200414T080000Z
SEQUENCE:0
TRANSP:OPAQUE
DTEND:20200414T215959Z
URL:https://cabaretvoltaire.ch/#node-6163-de
LOCATION:Cabaret Voltaire
SUMMARY:P-a-i-n.org
CLASS:PUBLIC
DTSTAMP:20260424T120524Z
END:VEVENT
END:VCALENDAR