BEGIN:VCALENDAR
VERSION:2.0
PRODID:cabaretvoltaire.ch
BEGIN:VEVENT
UID:69eb22e7eccfd
DTSTART:20221102T173000Z
SEQUENCE:0
TRANSP:OPAQUE
DTEND:20221102T225959Z
URL:https://cabaretvoltaire.ch/#node-59707-de
LOCATION:Cabaret Voltaire
SUMMARY:Michael Stevenson: Disproof Does Not Equal Disbelief
CLASS:PUBLIC
DTSTAMP:20260424T075935Z
END:VEVENT
END:VCALENDAR