BEGIN:VCALENDAR
VERSION:2.0
PRODID:cabaretvoltaire.ch
BEGIN:VEVENT
UID:69e89e0e2db10
DTSTART:20221115T190000Z
SEQUENCE:0
TRANSP:OPAQUE
DTEND:20221115T225959Z
URL:https://cabaretvoltaire.ch/#node-57438-de
LOCATION:Cabaret Voltaire
SUMMARY:Slow Reading Club
CLASS:PUBLIC
DTSTAMP:20260422T100814Z
END:VEVENT
END:VCALENDAR