BEGIN:VCALENDAR
VERSION:2.0
PRODID:cabaretvoltaire.ch
BEGIN:VEVENT
UID:69eb5cd296bf5
DTSTART:20220920T120000Z
SEQUENCE:0
TRANSP:OPAQUE
DTEND:20220920T170000Z
URL:https://cabaretvoltaire.ch/#node-57168-de
LOCATION:Cabaret Voltaire
SUMMARY:«Meine Obsession sind die Wörter» – Zum hundertsten Geburtstag
  von Kuno Raeber (1922–1992)
CLASS:PUBLIC
DTSTAMP:20260424T120642Z
END:VEVENT
END:VCALENDAR