BEGIN:VCALENDAR
VERSION:2.0
PRODID:cabaretvoltaire.ch
BEGIN:VEVENT
UID:69eb5cc736c06
DTSTART:20221122T170000Z
SEQUENCE:0
TRANSP:OPAQUE
DTEND:20221122T225959Z
URL:https://cabaretvoltaire.ch/#node-56805-de
LOCATION:Cabaret Voltaire
SUMMARY:CARAH Reading Group
CLASS:PUBLIC
DTSTAMP:20260424T120631Z
END:VEVENT
END:VCALENDAR