BEGIN:VCALENDAR
VERSION:2.0
PRODID:cabaretvoltaire.ch
BEGIN:VEVENT
UID:69e89e2840d63
DTSTART:20221029T160000Z
SEQUENCE:0
TRANSP:OPAQUE
DTEND:20221029T215959Z
URL:https://cabaretvoltaire.ch/#node-55535-de
LOCATION:Cabaret Voltaire
SUMMARY:Verlernen. Postkoloniale Perspektiven – mit María do Mar Castro 
 Varela\, Michaela Ott\, Marita Tatari und Ines Kleesattel
CLASS:PUBLIC
DTSTAMP:20260422T100840Z
END:VEVENT
END:VCALENDAR