BEGIN:VCALENDAR
VERSION:2.0
PRODID:cabaretvoltaire.ch
BEGIN:VEVENT
UID:69eb5d190df5f
DTSTART:20220906T160000Z
SEQUENCE:0
TRANSP:OPAQUE
DTEND:20220906T215959Z
URL:https://cabaretvoltaire.ch/#node-54530-en
LOCATION:Cabaret Voltaire
SUMMARY:Soirées and exhibition [not] here: Sarah Burger and Felipe Ribeiro
CLASS:PUBLIC
DTSTAMP:20260424T120753Z
END:VEVENT
END:VCALENDAR