BEGIN:VCALENDAR
VERSION:2.0
PRODID:cabaretvoltaire.ch
BEGIN:VEVENT
UID:69e89e103fe06
DTSTART:20220903T160000Z
SEQUENCE:0
TRANSP:OPAQUE
DTEND:20220918T160000Z
URL:https://cabaretvoltaire.ch/#node-53594-de
LOCATION:Cabaret Voltaire
SUMMARY:[not] here – Sarah Burger und Felipe Ribeiro
CLASS:PUBLIC
DTSTAMP:20260422T100816Z
END:VEVENT
END:VCALENDAR