BEGIN:VCALENDAR
VERSION:2.0
PRODID:cabaretvoltaire.ch
BEGIN:VEVENT
UID:69e861338bb82
DTSTART:20220623T190000Z
SEQUENCE:0
TRANSP:OPAQUE
DTEND:20220623T203000Z
URL:https://cabaretvoltaire.ch/#node-52189-de
LOCATION:Cabaret Voltaire
SUMMARY:Screening «An Experience Like That» von CARAH
CLASS:PUBLIC
DTSTAMP:20260422T054835Z
END:VEVENT
END:VCALENDAR