BEGIN:VCALENDAR
VERSION:2.0
PRODID:cabaretvoltaire.ch
BEGIN:VEVENT
UID:69eb5cd1c4fda
DTSTART:20220623T220000Z
SEQUENCE:0
TRANSP:OPAQUE
DTEND:20220624T215959Z
URL:https://cabaretvoltaire.ch/#node-51129-de
LOCATION:Cabaret Voltaire
SUMMARY:«Embracing Necessity 1916 2002 2022» – 20 Jahre seit der Besetz
 ung des Cabaret Voltaire
CLASS:PUBLIC
DTSTAMP:20260424T120641Z
END:VEVENT
END:VCALENDAR