BEGIN:VCALENDAR
VERSION:2.0
PRODID:cabaretvoltaire.ch
BEGIN:VEVENT
UID:69eb219400e1a
DTSTART:20220610T190000Z
SEQUENCE:0
TRANSP:OPAQUE
DTEND:20220610T215959Z
URL:https://cabaretvoltaire.ch/#node-50328-de
LOCATION:Cabaret Voltaire
SUMMARY:Performance von Alpina Huus «Theodora or The Progress» (Zurich Ar
 t Weekend 2022)
CLASS:PUBLIC
DTSTAMP:20260424T075356Z
END:VEVENT
END:VCALENDAR