BEGIN:VCALENDAR
VERSION:2.0
PRODID:cabaretvoltaire.ch
BEGIN:VEVENT
UID:69e834684bbf7
DTSTART:20200313T200000Z
SEQUENCE:0
TRANSP:OPAQUE
DTEND:20200313T225959Z
URL:https://cabaretvoltaire.ch/#node-4519-en
LOCATION:Cabaret Voltaire
SUMMARY:Suspended Gestures
CLASS:PUBLIC
DTSTAMP:20260422T023728Z
END:VEVENT
END:VCALENDAR