BEGIN:VCALENDAR
VERSION:2.0
PRODID:cabaretvoltaire.ch
BEGIN:VEVENT
UID:69eb5d246d7f2
DTSTART:20220531T180000Z
SEQUENCE:0
TRANSP:OPAQUE
DTEND:20220531T210000Z
URL:https://cabaretvoltaire.ch/#node-44899-en
LOCATION:Cabaret Voltaire
SUMMARY:«Theodora or The Progress»\, Alpina Huus\, film screening and tal
 k
CLASS:PUBLIC
DTSTAMP:20260424T120804Z
END:VEVENT
END:VCALENDAR