BEGIN:VCALENDAR
VERSION:2.0
PRODID:cabaretvoltaire.ch
BEGIN:VEVENT
UID:69eb5d18da4cf
DTSTART:20211007T173000Z
SEQUENCE:0
TRANSP:OPAQUE
DTEND:20211007T193000Z
URL:https://cabaretvoltaire.ch/#node-33532-en
LOCATION:Cabaret Voltaire
SUMMARY:Georgian Modernism and Dada. Bridge: Zurich-Tbilisi
CLASS:PUBLIC
DTSTAMP:20260424T120752Z
END:VEVENT
END:VCALENDAR