BEGIN:VCALENDAR
VERSION:2.0
PRODID:cabaretvoltaire.ch
BEGIN:VEVENT
UID:69e835e4ea831
DTSTART:20220519T220000Z
SEQUENCE:0
TRANSP:OPAQUE
DTEND:20220925T215959Z
URL:https://cabaretvoltaire.ch/#node-31622-en
LOCATION:Cabaret Voltaire
SUMMARY:ektor garcia\, «nudos de tiempo»
CLASS:PUBLIC
DTSTAMP:20260422T024348Z
END:VEVENT
END:VCALENDAR