BEGIN:VCALENDAR
VERSION:2.0
PRODID:cabaretvoltaire.ch
BEGIN:VEVENT
UID:69e89d300477c
DTSTART:20200222T210000Z
SEQUENCE:0
TRANSP:OPAQUE
DTEND:20200221T230000Z
URL:https://cabaretvoltaire.ch/#node-2991-de
LOCATION:Cabaret Voltaire
SUMMARY:Literaturhaus Zürich. Tage südafrikanischer Literatur
CLASS:PUBLIC
DTSTAMP:20260422T100432Z
END:VEVENT
END:VCALENDAR