BEGIN:VCALENDAR
VERSION:2.0
PRODID:cabaretvoltaire.ch
BEGIN:VEVENT
UID:69ecba9b83740
DTSTART:20210419T220000Z
SEQUENCE:0
TRANSP:OPAQUE
DTEND:20210430T215959Z
URL:https://cabaretvoltaire.ch/#node-25990-en
LOCATION:Cabaret Voltaire
SUMMARY:Cracking Up and Staging Down: current parroting\, Didi da da da and
  «ein weiblicher Humorist genannt Kobold»
CLASS:PUBLIC
DTSTAMP:20260425T125907Z
END:VEVENT
END:VCALENDAR