BEGIN:VCALENDAR
VERSION:2.0
PRODID:cabaretvoltaire.ch
BEGIN:VEVENT
UID:69ecb95fc5b26
DTSTART:20210419T220000Z
SEQUENCE:0
TRANSP:OPAQUE
DTEND:20210430T215959Z
URL:https://cabaretvoltaire.ch/#node-25990-de
LOCATION:Cabaret Voltaire
SUMMARY:Cracking Up and Staging Down: current parroting\, Didi da da da und
  «ein weiblicher Humorist genannt Kobold»
CLASS:PUBLIC
DTSTAMP:20260425T125351Z
END:VEVENT
END:VCALENDAR