BEGIN:VCALENDAR
VERSION:2.0
PRODID:cabaretvoltaire.ch
BEGIN:VEVENT
UID:69e89d0bc9927
DTSTART:20200630T180000Z
SEQUENCE:0
TRANSP:OPAQUE
DTEND:20200630T215959Z
URL:https://cabaretvoltaire.ch/#node-2192-de
LOCATION:Cabaret Voltaire
SUMMARY:Verschoben: Meta-Programm
CLASS:PUBLIC
DTSTAMP:20260422T100355Z
END:VEVENT
END:VCALENDAR